BEGIN:VCALENDAR
VERSION:2.0
PRODID:-//Cosmicx Healing Art - ECPv5.16.3//NONSGML v1.0//EN
CALSCALE:GREGORIAN
METHOD:PUBLISH
X-WR-CALNAME:Cosmicx Healing Art
X-ORIGINAL-URL:https://www.cosmicxhealingart.com
X-WR-CALDESC:Events for Cosmicx Healing Art
BEGIN:VTIMEZONE
TZID:Asia/Kolkata
BEGIN:STANDARD
TZOFFSETFROM:+0530
TZOFFSETTO:+0530
TZNAME:IST
DTSTART:20210101T000000
END:STANDARD
END:VTIMEZONE
BEGIN:VEVENT
DTSTART;TZID=Asia/Kolkata:20210228T100000
DTEND;TZID=Asia/Kolkata:20210228T183000
DTSTAMP:20260424T190014
CREATED:20210208T110847Z
LAST-MODIFIED:20240812T114636Z
UID:1545-1614506400-1614537000@www.cosmicxhealingart.com
SUMMARY:Learn Emotional Freedom Technique at Cosmicx Healing Art
DESCRIPTION:One-day Basic EFT course on 28th Feb2021 \nPrerequisite: Willingness to learn and change your life. \nFees: Rs.7000/- \nIncludes: Manual\, Certificate\, lunch\, tea. \nNote: \nPrior registration is a must.\nInstructor: Kripajyoti Nisha Singla\n9818995594
URL:https://www.cosmicxhealingart.com/upcoming-events/learn-emotional-freedom-technique/
LOCATION:Cosmicx Healing Art\, D-250 ground floor\, Ramprastha colony\, opposite Vivek Vihar\, Surya Nagar\, East Delhi\, Ghaziabad\, Uttar Pradesh\, 201011\, India
ATTACH;FMTTYPE=image/jpeg:https://www.cosmicxhealingart.com/wp-content/uploads/2021/02/IMG-20210206-WA0006-1.jpg
END:VEVENT
END:VCALENDAR