BEGIN:VCALENDAR
VERSION:2.0
PRODID:-//Cosmicx Healing Art - ECPv5.16.3//NONSGML v1.0//EN
CALSCALE:GREGORIAN
METHOD:PUBLISH
X-WR-CALNAME:Cosmicx Healing Art
X-ORIGINAL-URL:https://www.cosmicxhealingart.com
X-WR-CALDESC:Events for Cosmicx Healing Art
BEGIN:VTIMEZONE
TZID:Asia/Kolkata
BEGIN:STANDARD
TZOFFSETFROM:+0530
TZOFFSETTO:+0530
TZNAME:IST
DTSTART:20170101T000000
END:STANDARD
END:VTIMEZONE
BEGIN:VEVENT
DTSTART;VALUE=DATE:20170310
DTEND;VALUE=DATE:20170312
DTSTAMP:20260421T034420
CREATED:20170323T114650Z
LAST-MODIFIED:20170405T061249Z
UID:942-1489104000-1489276799@www.cosmicxhealingart.com
SUMMARY:Announcing reiki level 1 & 2
DESCRIPTION:“Reiki” is a Japanese healing technique founded by Dr. Mikao Usui in 1900’s. It’s a process to channel universal life force energy and giving it further via hands that is why it is called traditional hands on healing technique. Reiki heals physical\, mental\, emotional\, spiritual imbalances. Reiki means Ray & Kei which means that divine rays of the universal life force are the keys to healing. \nBenefits of Reiki: \n\nIt helps in reducing stress\, pain\, anger\, depression & various chronic diseases\nIt eliminates diseases from the core\nIt focuses on overall health and wellbeing\nVery good for relaxation\nIt brings spiritual clarity\nCalms mind and improves focus\nImproves body health and memory system\nHelps during pregnancy and child birth\nEnhances personal awareness\nBrings protection against evil\, psychic attacks\nHelps in education\n\nWhat will be covered in the workshop? \n\n\nLevel 1: \n\nWhat is Reiki & its history\nReiki principles\nAttunements\, opening chakras\nHands on healing\nBody positions for healing –self\, others\nHealing meditations & practice\n\n\n\nLevel 2: \n\nAttunements for level 2\nSymbols their explanation\, uses\nHand positions with symbols-self\, others\nVarious uses of Reiki\nMeditations\, Practice\nReiki box\, Program Reiki\, Intentional Reiki\, Reiki Dot\, Reiki Pillar\, Reiki to Functions/occasions\nDistance healing- self\, others\nSituational healing- self\, others\nChakra balancing & healing\, Emotional healing\nVisualization meditations\n\n\n\nAbout KripaJyoti: \nKripaJyoti is a master soul who draws an experience of more than 12 years in the area of health and healing. She started her healing journey with Reiki in 2004\, completed all her levels and became a Reiki grandmaster by 2005. So far she had made plenty of Reiki channels. Once being attuned to Reiki light there was no stop in her growth and awareness. She pursued Reiki and also learned various healing modalities throughout her spiritual journey. Today she is a holistic therapist & instructor conducting her own workshops healing body\, mind & soul. She is a trained Theta Healer& trainer\, Hypnotherapist\, Constellation therapist\, Reiki master & trainer\, Past life regression therapist & trainer\, Artist. Her focus is to provide wisdom which has come to her during her growth. She shares her in depth experiences and knowledge in her workshops.
URL:https://www.cosmicxhealingart.com/upcoming-events/announcing-reiki-level-1-2/
LOCATION:Cosmicx Healing Art\, D-250 ground floor\, Ramprastha colony\, opposite Vivek Vihar\, Surya Nagar\, East Delhi\, Ghaziabad\, Uttar Pradesh\, 201011\, India
ORGANIZER;CN="KripaJyoti%20Nisha%20Singla":MAILTO:nsingla6@gmail.com
END:VEVENT
END:VCALENDAR